BEGIN:VCALENDAR
VERSION:2.0
PRODID:-//Revolución en mi Sofá - ECPv6.15.11//NONSGML v1.0//EN
CALSCALE:GREGORIAN
METHOD:PUBLISH
X-WR-CALNAME:Revolución en mi Sofá
X-ORIGINAL-URL:https://www.revolucionenmisofa.com
X-WR-CALDESC:Eventos para Revolución en mi Sofá
REFRESH-INTERVAL;VALUE=DURATION:PT1H
X-Robots-Tag:noindex
X-PUBLISHED-TTL:PT1H
BEGIN:VTIMEZONE
TZID:Europe/Madrid
BEGIN:DAYLIGHT
TZOFFSETFROM:+0100
TZOFFSETTO:+0200
TZNAME:CEST
DTSTART:20180325T010000
END:DAYLIGHT
BEGIN:STANDARD
TZOFFSETFROM:+0200
TZOFFSETTO:+0100
TZNAME:CET
DTSTART:20181028T010000
END:STANDARD
BEGIN:DAYLIGHT
TZOFFSETFROM:+0100
TZOFFSETTO:+0200
TZNAME:CEST
DTSTART:20190331T010000
END:DAYLIGHT
BEGIN:STANDARD
TZOFFSETFROM:+0200
TZOFFSETTO:+0100
TZNAME:CET
DTSTART:20191027T010000
END:STANDARD
BEGIN:DAYLIGHT
TZOFFSETFROM:+0100
TZOFFSETTO:+0200
TZNAME:CEST
DTSTART:20200329T010000
END:DAYLIGHT
BEGIN:STANDARD
TZOFFSETFROM:+0200
TZOFFSETTO:+0100
TZNAME:CET
DTSTART:20201025T010000
END:STANDARD
END:VTIMEZONE
BEGIN:VEVENT
DTSTART;TZID=Europe/Madrid:20191227T213000
DTEND;TZID=Europe/Madrid:20191227T233000
DTSTAMP:20260422T181914
CREATED:20190624T170006Z
LAST-MODIFIED:20190624T093608Z
UID:10357-1577482200-1577489400@www.revolucionenmisofa.com
SUMMARY:Concierto de Coque Malla en la Sala París 15 (diciembre 2019)
DESCRIPTION:No te pierdas el concierto de Coque Malla presentando su disco «¿Revolución?» el próximo viernes 27 de diciembre de 2019.  \n¿Revolución Tour? es la nueva gira de Coque Malla después de su pausa musical tras la gira Irrepetible. En este nuevo tour presentará los temas de su nuevo trabajo ¿Revolución?\, que se publicará en octubre de 2019 y con el que el propio Coque Malla se ha transformado físicamente\, al raparse el pelo y cambiar a una imagen más radical\, y mentalmente\, al reflexionar dentro de sus temas sobre una posible revolución. \nSimbolismo poético dentro de sus letras\, un espectáculo nuevo y ambicioso y el mismo Coque Malla y su banda te encontrarás el próximo 27 de diciembre en Málaga\, un concierto que no podrás perderte en el que cantarás los mejores temas junto con muchas sorpresas dirigidas por el artista madrileño.
URL:https://www.revolucionenmisofa.com/agenda/concierto-coque-malla-sala-paris-diciembre-2019/
LOCATION:Sala París 15\, calle La Orotava 25-27\, Málaga\, Málaga\, 29006\, España
CATEGORIES:Música
ATTACH;FMTTYPE=image/jpeg:https://www.revolucionenmisofa.com/wp-content/uploads/2019/06/concierto-coque-malla-sala-paris-15-diciembre-2019.jpg
END:VEVENT
BEGIN:VEVENT
DTSTART;TZID=Europe/Madrid:20191123T220000
DTEND;TZID=Europe/Madrid:20191123T233000
DTSTAMP:20260422T181914
CREATED:20190624T172001Z
LAST-MODIFIED:20190624T093456Z
UID:10375-1574546400-1574551800@www.revolucionenmisofa.com
SUMMARY:Tote King. Concierto en Sala París 15 (noviembre 2019)
DESCRIPTION:La gira de despedida del último disco del rapero sevillano TOTEKING pasará por Murcia\, Málaga\, Barcelona\, Valencia\, Bilbao y Madrid. Una serie de conciertos únicos\, con artistas invitados en cada fecha y una renovada propuesta escénica. \nTOTEKING\, reconocido como el letrista más completo y creativo del hip hop en español\, ha anunciado una nueva serie de conciertos que completarán la gira de despedida de su último álbum\, “Lebron”. Se trata de oportunidades únicas para ver al artista sevillano como nunca se le había podido ver\, acompañado de invitados especiales en cada fecha y con un espectáculo diseñado especialmente para esta ocasión. \nEntradas a la venta en Wegow
URL:https://www.revolucionenmisofa.com/agenda/tote-king-concierto-en-sala-paris-noviembre-2019/
LOCATION:Sala París 15\, calle La Orotava 25-27\, Málaga\, Málaga\, 29006\, España
CATEGORIES:Música
ATTACH;FMTTYPE=image/jpeg:https://www.revolucionenmisofa.com/wp-content/uploads/2019/06/tote-king-concierto-sala-paris-noviembre-2019.jpg
END:VEVENT
BEGIN:VEVENT
DTSTART;TZID=Europe/Madrid:20191025T220000
DTEND;TZID=Europe/Madrid:20191025T233000
DTSTAMP:20260422T181914
CREATED:20190624T171009Z
LAST-MODIFIED:20190624T093624Z
UID:10372-1572040800-1572046200@www.revolucionenmisofa.com
SUMMARY:Juancho Marqués. Tour Album Uno (Sala París - octubre 2019)
DESCRIPTION:Juancho Marqués vuelve con el proyecto más profesional y maduro de su carrera\, Álbum Uno. En él\, el madrileño nos ofrece una gran producción en la que coquetea con el pop más urbano y ofrecerá conciertos en las salas de las principales ciudades de España durante todo 2019. \nLa cita en #Málaga será el próximo el viernes 25 de octubre \nEntradas a la venta en Ticketmaster\, Fnac\, Carrefour y oficinas de Halcón Viajes.
URL:https://www.revolucionenmisofa.com/agenda/juancho-marques-tour-album-uno-sala-paris-octubre-2019/
LOCATION:Sala París 15\, calle La Orotava 25-27\, Málaga\, Málaga\, 29006\, España
CATEGORIES:Música
ATTACH;FMTTYPE=image/jpeg:https://www.revolucionenmisofa.com/wp-content/uploads/2019/06/juancho-marques-tour-album-uno-sala-paris-octubre-2019.jpg
END:VEVENT
BEGIN:VEVENT
DTSTART;TZID=Europe/Madrid:20191011T220000
DTEND;TZID=Europe/Madrid:20191011T233000
DTSTAMP:20260422T181914
CREATED:20190624T170552Z
LAST-MODIFIED:20190624T093636Z
UID:10369-1570831200-1570836600@www.revolucionenmisofa.com
SUMMARY:Queen Forever\, Bohemian Rhapsody Tour (sala París\, octubre 2019)
DESCRIPTION:Tras sus exitosas giras de años anteriores alrededor de la geografía nacional\, llenando recintos como el Hard Rock Hotel de Ibiza ante más de 6.000 personas\, la Queen Forever band inicia este 2019 su nueva gira Bohemian Rhapsody Tour. \nDe la mano de Tolo Sanders (Freddie Mercury) y Adrián Pujadas (Brian May) nace esta espectacular banda tributo a la que también se incorporan Diego Roldán (John Deacon)\, Haritz Caperochipi (Roger Taylor) y Sebastián Raimundo (Spike Edney) para interpretar la obra musical y discográfica de Queen\, por muchos considerada la mejor banda de rock del siglo XX. \nCon cuidadas caracterizaciones y una puesta en escena minuciosamente diseñada\, la banda se ha convertido rápidamente en el tributo más fiel\, el mejor Queen después de Queen. No te los pierdas el 11 de octubre en Málaga.
URL:https://www.revolucionenmisofa.com/agenda/queen-forever-bohemian-rhapsody-tour-sala-paris-octubre-2019/
LOCATION:Sala París 15\, calle La Orotava 25-27\, Málaga\, Málaga\, 29006\, España
CATEGORIES:Música
ATTACH;FMTTYPE=image/jpeg:https://www.revolucionenmisofa.com/wp-content/uploads/2019/06/queen-forever-bohemian-rhapsody-tour-sala-paris-octubre-2019.jpg
END:VEVENT
BEGIN:VEVENT
DTSTART;TZID=Europe/Madrid:20191009T220000
DTEND;TZID=Europe/Madrid:20191009T233000
DTSTAMP:20260422T181914
CREATED:20190624T171525Z
LAST-MODIFIED:20190624T093658Z
UID:10366-1570658400-1570663800@www.revolucionenmisofa.com
SUMMARY:John Illsley de Dire Straits (Sala París 15 - octubre 2019)
DESCRIPTION:El bajista y miembro fundador de Dire Straits John Illsley actuará el próximo 9 de  octubre en #Málaga\, acompañado de su banda en la que estará el guitarrista Robbie McIntosh\, interpretará clásicos de Dire Straits –que fundó junto a los hermanos Mark y David Knopfler y el batería Pick Withers–\, además de temas de su último álbum en solitario\, ‘Long shadows’. \nLa venta de entradas está disponible en Ticketmaster\, Fnac\, Carrefour y oficinas de Halcón Viajes.
URL:https://www.revolucionenmisofa.com/agenda/john-illsley-de-dire-straits-sala-paris-octubre-2019/
LOCATION:Sala París 15\, calle La Orotava 25-27\, Málaga\, Málaga\, 29006\, España
CATEGORIES:Música
ATTACH;FMTTYPE=image/jpeg:https://www.revolucionenmisofa.com/wp-content/uploads/2019/06/john-illsley-dire-straits-concierto-sala-paris-octubre-2019.jpg
END:VEVENT
BEGIN:VEVENT
DTSTART;TZID=Europe/Madrid:20190928T220000
DTEND;TZID=Europe/Madrid:20190928T233000
DTSTAMP:20260422T181914
CREATED:20190624T172511Z
LAST-MODIFIED:20190624T093730Z
UID:10363-1569708000-1569713400@www.revolucionenmisofa.com
SUMMARY:Ciro y los Persas (Sala París 15\, septiembre 2019)
DESCRIPTION:La Banda de Rock Argentina Ciro y Los Persas realizará sólo dos conciertos en España \, en Barcelona el viernes 27  y el sábado 28 de septiembre en Málaga en nuestra sala. \nAndres CIRO Martínez (ex cantante de Los Piojos) comenzó en 2009 su carrera solista bajo el nombre de CIRO Y LOS PERSAS. \nLos Piojos son una de las bandas más icónicas del Rock Argentino\, durante dos décadas fueron marcando hitos de convocatoria llevando al género a los más grandes estadios del país y marcando para siempre a más de una generación de fans. Luego de la disolución del grupo\, su cantante y principal compositor formó su nuevo proyecto solista. \nEntradas disponibles en el siguiente link o en cualquier oficina de Correos. \nhttp://bit.ly/EntradasCiroParis15
URL:https://www.revolucionenmisofa.com/agenda/ciro-y-los-persas-sala-paris-septiembre-2019/
LOCATION:Sala París 15\, calle La Orotava 25-27\, Málaga\, Málaga\, 29006\, España
CATEGORIES:Música
ATTACH;FMTTYPE=image/jpeg:https://www.revolucionenmisofa.com/wp-content/uploads/2019/06/ciro-y-los-persas-concierto-sala-paris-septiembre-2019.jpg
END:VEVENT
BEGIN:VEVENT
DTSTART;TZID=Europe/Madrid:20190921T223000
DTEND;TZID=Europe/Madrid:20190921T233000
DTSTAMP:20260422T181914
CREATED:20190624T173022Z
LAST-MODIFIED:20190624T093746Z
UID:10360-1569105000-1569108600@www.revolucionenmisofa.com
SUMMARY:Whole Lotta Band en concierto (Paris 15\, septiembre 2019)
DESCRIPTION:Este año la mítica banda británica Led Zeppelin celebra 50 años de carrera y la banda tributo\, Whole Lotta Band regresa a nuestro escenario para celebrar este medio siglo de Rock & Roll\, con un gran espectáculo donde caeran los grandes clásicos de la banda uno tras otro. \n\nLa cita será después del verano\, concretamente el 21 de septiembre y la venta de entradas ya está disponible en Wegow: https://bit.ly/2Wh3DI4
URL:https://www.revolucionenmisofa.com/agenda/whole-lotta-band-sala-paris-septiembre-2019/
LOCATION:Sala París 15\, calle La Orotava 25-27\, Málaga\, Málaga\, 29006\, España
CATEGORIES:Música
ATTACH;FMTTYPE=image/jpeg:https://www.revolucionenmisofa.com/wp-content/uploads/2019/06/whole-lotta-band-sala-paris-septiembre-2019.jpg
END:VEVENT
END:VCALENDAR